BEGIN:VCALENDAR
VERSION:2.0
PRODID:-//Corporate Gray - ECPv6.15.20//NONSGML v1.0//EN
CALSCALE:GREGORIAN
METHOD:PUBLISH
X-WR-CALNAME:Corporate Gray
X-ORIGINAL-URL:http://roa.corporategray.com
X-WR-CALDESC:Events for Corporate Gray
REFRESH-INTERVAL;VALUE=DURATION:PT1H
X-Robots-Tag:noindex
X-PUBLISHED-TTL:PT1H
BEGIN:VTIMEZONE
TZID:America/New_York
BEGIN:DAYLIGHT
TZOFFSETFROM:-0500
TZOFFSETTO:-0400
TZNAME:EDT
DTSTART:20250309T070000
END:DAYLIGHT
BEGIN:STANDARD
TZOFFSETFROM:-0400
TZOFFSETTO:-0500
TZNAME:EST
DTSTART:20251102T060000
END:STANDARD
BEGIN:DAYLIGHT
TZOFFSETFROM:-0500
TZOFFSETTO:-0400
TZNAME:EDT
DTSTART:20260308T070000
END:DAYLIGHT
BEGIN:STANDARD
TZOFFSETFROM:-0400
TZOFFSETTO:-0500
TZNAME:EST
DTSTART:20261101T060000
END:STANDARD
BEGIN:DAYLIGHT
TZOFFSETFROM:-0500
TZOFFSETTO:-0400
TZNAME:EDT
DTSTART:20270314T070000
END:DAYLIGHT
BEGIN:STANDARD
TZOFFSETFROM:-0400
TZOFFSETTO:-0500
TZNAME:EST
DTSTART:20271107T060000
END:STANDARD
END:VTIMEZONE
BEGIN:VEVENT
DTSTART;TZID=America/New_York:20260723T110000
DTEND;TZID=America/New_York:20260723T140000
DTSTAMP:20260419T222020
CREATED:20251226T165927Z
LAST-MODIFIED:20260415T122431Z
UID:979-1784804400-1784815200@roa.corporategray.com
SUMMARY:Virtual Military-Friendly Job Fair
DESCRIPTION:(Scroll to Bottom to Register)  \nLand your next mission.\nMeet employers who get it.\nThe Corporate Gray Virtual Military-Friendly Job Fair — powered by Absolutely American — brings together top employers who actively recruit veterans\, military spouses\, and transitioning service members. \nThis isn’t your average job fair; it’s a chance to step into a virtual space where top employers are genuinely excited to meet talented\, mission-driven individuals like you. Whether you’re transitioning out of military service or hunting for your next career adventure\, this is where you’ll find organizations that see and value your skills\, dedication\, and one-of-a-kind experience. \nQuick note: While this event is tailored for military veterans\, we’d love to see all job seekers there. Your unique skills are welcome here! \n\nHere’s What You’ll Get:\nNetworking: Connect with leading employers who are on the lookout for veterans like you. This is your moment to shine!\nJob Opportunities: Explore openings across industries like defense\, cyber\, logistics\, IT\, healthcare\, technology\, engineering\, security\, manufacturing\, and more. Discover roles that need your expertise.\nTransition Resources: Dive into Corporate Gray’s Job Seeker Resource Page for A-Z information on resume workshops\, interview roadmaps\, and professional tips that help you translate your military background to stand out from the crowd.\nWhat makes this different? This event is tailored specifically for you\, bringing together companies who get it – they understand and appreciate the unique background you bring to the table. \n\nEvent Details:\nDate: July 23\, 2026\nTime: 11:00 AM – 2:00 PM EST\nLocation: Virtual-online\n\nDress Code:\nSharp business casual\, video calls with employers might happen\, so look your best. \n\nUpcoming Job Fairs:\nNational Virtual Military-Friendly Job Fair August 20\, 2026\nNational Virtual Military-Friendly Job Fair September 17\, 2026\nNational Virtual Military-Friendly Job Fair October 15\, 2026\n\nReserve your spot:\nFirst time here? Use the “Sign up for this event” button below to create your job seeker account and register for this event. \nAlready have a Corporate Gray account? Click the “Sign up for this event” Button\, Sign into your account an
URL:http://roa.corporategray.com/event/virtual-military-friendly-job-fair-7/
LOCATION:Online
CATEGORIES:Seeker Virtual
END:VEVENT
END:VCALENDAR